BEGIN:VCALENDAR
VERSION:2.0
PRODID:-//Bakersfield Tennis Open - ECPv6.15.20//NONSGML v1.0//EN
CALSCALE:GREGORIAN
METHOD:PUBLISH
X-WR-CALNAME:Bakersfield Tennis Open
X-ORIGINAL-URL:https://btopen.org
X-WR-CALDESC:Events for Bakersfield Tennis Open
REFRESH-INTERVAL;VALUE=DURATION:PT1H
X-Robots-Tag:noindex
X-PUBLISHED-TTL:PT1H
BEGIN:VTIMEZONE
TZID:America/Los_Angeles
BEGIN:DAYLIGHT
TZOFFSETFROM:-0800
TZOFFSETTO:-0700
TZNAME:PDT
DTSTART:20160313T100000
END:DAYLIGHT
BEGIN:STANDARD
TZOFFSETFROM:-0700
TZOFFSETTO:-0800
TZNAME:PST
DTSTART:20161106T090000
END:STANDARD
BEGIN:DAYLIGHT
TZOFFSETFROM:-0800
TZOFFSETTO:-0700
TZNAME:PDT
DTSTART:20170312T100000
END:DAYLIGHT
BEGIN:STANDARD
TZOFFSETFROM:-0700
TZOFFSETTO:-0800
TZNAME:PST
DTSTART:20171105T090000
END:STANDARD
BEGIN:DAYLIGHT
TZOFFSETFROM:-0800
TZOFFSETTO:-0700
TZNAME:PDT
DTSTART:20180311T100000
END:DAYLIGHT
BEGIN:STANDARD
TZOFFSETFROM:-0700
TZOFFSETTO:-0800
TZNAME:PST
DTSTART:20181104T090000
END:STANDARD
END:VTIMEZONE
BEGIN:VEVENT
DTSTART;TZID=America/Los_Angeles:20170311T090000
DTEND;TZID=America/Los_Angeles:20170311T170000
DTSTAMP:20260421T025348
CREATED:20170131T163823Z
LAST-MODIFIED:20170311T065251Z
UID:2512-1489222800-1489251600@btopen.org
SUMMARY:2017 1st Round Singles Main Qualifier
DESCRIPTION:1st Round Singles Main Qualifier.  \nPlay begins at 9AM on six courts simultaneously with 32 matches played all day.  \nTwelve matches will be played starting at 9AM\, followed by twelve matches starting not before 11AM and eight matches starting not before 2PM. \nOrder of Play \n64 players from all over the world and locally play for 8 spots into the Main Tournament Draw. \n 
URL:https://btopen.org/event/2017-1st-round-singles-main-qualifier/
LOCATION:Bakersfield Racquet Club\, 1660 Pine Street\, Bakersfield\, CA\, 93301\, United States
CATEGORIES:Qualifier,Singles,USTA Pro Circuit
END:VEVENT
BEGIN:VEVENT
DTSTART;TZID=America/Los_Angeles:20170312T100000
DTEND;TZID=America/Los_Angeles:20170312T170000
DTSTAMP:20260421T025348
CREATED:20170131T164110Z
LAST-MODIFIED:20170312T055952Z
UID:2516-1489312800-1489338000@btopen.org
SUMMARY:2017 Main Qualifier
DESCRIPTION:Order of Play: https://btopen.org/qualifier/
URL:https://btopen.org/event/2017-main-qualifier/
LOCATION:Bakersfield Racquet Club\, 1660 Pine Street\, Bakersfield\, CA\, 93301\, United States
CATEGORIES:Qualifier
END:VEVENT
BEGIN:VEVENT
DTSTART;TZID=America/Los_Angeles:20170313T100000
DTEND;TZID=America/Los_Angeles:20170313T170000
DTSTAMP:20260421T025348
CREATED:20170131T164613Z
LAST-MODIFIED:20170313T035903Z
UID:2520-1489399200-1489424400@btopen.org
SUMMARY:2017 Main Qualifier Completion
DESCRIPTION:Play begins at 10AM. 8 – Main Qualifiers selected into the Main Draw.
URL:https://btopen.org/event/2017-main-qualifier-completion/
LOCATION:Bakersfield Racquet Club\, 1660 Pine Street\, Bakersfield\, CA\, 93301\, United States
CATEGORIES:Qualifier
END:VEVENT
END:VCALENDAR