BEGIN:VCALENDAR
VERSION:2.0
PRODID:-//Bakersfield Tennis Open - ECPv6.15.20//NONSGML v1.0//EN
CALSCALE:GREGORIAN
METHOD:PUBLISH
X-ORIGINAL-URL:https://btopen.org
X-WR-CALDESC:Events for Bakersfield Tennis Open
REFRESH-INTERVAL;VALUE=DURATION:PT1H
X-Robots-Tag:noindex
X-PUBLISHED-TTL:PT1H
BEGIN:VTIMEZONE
TZID:America/Los_Angeles
BEGIN:DAYLIGHT
TZOFFSETFROM:-0800
TZOFFSETTO:-0700
TZNAME:PDT
DTSTART:20250309T100000
END:DAYLIGHT
BEGIN:STANDARD
TZOFFSETFROM:-0700
TZOFFSETTO:-0800
TZNAME:PST
DTSTART:20251102T090000
END:STANDARD
BEGIN:DAYLIGHT
TZOFFSETFROM:-0800
TZOFFSETTO:-0700
TZNAME:PDT
DTSTART:20260308T100000
END:DAYLIGHT
BEGIN:STANDARD
TZOFFSETFROM:-0700
TZOFFSETTO:-0800
TZNAME:PST
DTSTART:20261101T090000
END:STANDARD
BEGIN:DAYLIGHT
TZOFFSETFROM:-0800
TZOFFSETTO:-0700
TZNAME:PDT
DTSTART:20270314T100000
END:DAYLIGHT
BEGIN:STANDARD
TZOFFSETFROM:-0700
TZOFFSETTO:-0800
TZNAME:PST
DTSTART:20271107T090000
END:STANDARD
END:VTIMEZONE
BEGIN:VEVENT
DTSTART;TZID=America/Los_Angeles:20260315T160000
DTEND;TZID=America/Los_Angeles:20260315T180000
DTSTAMP:20260419T195956
CREATED:20260212T204139Z
LAST-MODIFIED:20260212T204332Z
UID:8147-1773590400-1773597600@btopen.org
SUMMARY:2026 Main Qualifier check-in
DESCRIPTION:[vc_row][vc_column][vc_column_text css=””] \nBakersfield Tennis Open Qualifier player check-in\, 4PM to 6PM. \nPractice courts open to tournament players. \nhttps://www.itftennis.com/en/tournament/m25-bakersfield-ca/usa/2026/m-itf-usa-2026-008/[/vc_column_text][/vc_column][/vc_row]
URL:https://btopen.org/event/2026-main-qualifier-check-in/
LOCATION:Bakersfield Racquet Club\, 1660 Pine Street\, Bakersfield\, CA\, 93301\, United States
CATEGORIES:Qualifier,Singles,USTA Pro Circuit
END:VEVENT
BEGIN:VEVENT
DTSTART;TZID=America/Los_Angeles:20260316T100000
DTEND;TZID=America/Los_Angeles:20260316T160000
DTSTAMP:20260419T195956
CREATED:20260212T205144Z
LAST-MODIFIED:20260316T154832Z
UID:8154-1773655200-1773676800@btopen.org
SUMMARY:2026 Main Qualifier Monday
DESCRIPTION:[vc_row][vc_column][vc_column_text css=””]Singles Qualifier 1st round\, play begins at 10AM. 32 players from around the world and locally compete for 8 spots into the Main Tournament Draw. Check the Qualifier page for the draw. \nCalifornia infused soul food available from Bentley Bowl during lunch.\n[/vc_column_text][/vc_column][/vc_row]
URL:https://btopen.org/event/2026-main-qualifier-monday/
LOCATION:Bakersfield Racquet Club\, 1660 Pine Street\, Bakersfield\, CA\, 93301\, United States
CATEGORIES:Qualifier,Singles,USTA Pro Circuit
END:VEVENT
BEGIN:VEVENT
DTSTART;TZID=America/Los_Angeles:20260317T100000
DTEND;TZID=America/Los_Angeles:20260317T130000
DTSTAMP:20260419T195956
CREATED:20260212T211557Z
LAST-MODIFIED:20260317T030137Z
UID:8170-1773741600-1773752400@btopen.org
SUMMARY:2026 Qualifier Completion
DESCRIPTION:[vc_row][vc_column][vc_column_text css=””]Completion of Singles Qualifier.  Deli-cious Kitchen open during lunch. \nGet ready for a LOT of tennis\, the remaining players compete for 8 spots into the Main Tournament Draw. \n[/vc_column_text][/vc_column][/vc_row]
URL:https://btopen.org/event/2026-qualifier-completion/
LOCATION:Bakersfield Racquet Club\, 1660 Pine Street\, Bakersfield\, CA\, 93301\, United States
CATEGORIES:Qualifier,Singles,USTA Pro Circuit
END:VEVENT
END:VCALENDAR