BEGIN:VCALENDAR
VERSION:2.0
PRODID:-//Bakersfield Tennis Open - ECPv6.15.20//NONSGML v1.0//EN
CALSCALE:GREGORIAN
METHOD:PUBLISH
X-WR-CALNAME:Bakersfield Tennis Open
X-ORIGINAL-URL:https://btopen.org
X-WR-CALDESC:Events for Bakersfield Tennis Open
REFRESH-INTERVAL;VALUE=DURATION:PT1H
X-Robots-Tag:noindex
X-PUBLISHED-TTL:PT1H
BEGIN:VTIMEZONE
TZID:America/Los_Angeles
BEGIN:DAYLIGHT
TZOFFSETFROM:-0800
TZOFFSETTO:-0700
TZNAME:PDT
DTSTART:20160313T100000
END:DAYLIGHT
BEGIN:STANDARD
TZOFFSETFROM:-0700
TZOFFSETTO:-0800
TZNAME:PST
DTSTART:20161106T090000
END:STANDARD
BEGIN:DAYLIGHT
TZOFFSETFROM:-0800
TZOFFSETTO:-0700
TZNAME:PDT
DTSTART:20170312T100000
END:DAYLIGHT
BEGIN:STANDARD
TZOFFSETFROM:-0700
TZOFFSETTO:-0800
TZNAME:PST
DTSTART:20171105T090000
END:STANDARD
BEGIN:DAYLIGHT
TZOFFSETFROM:-0800
TZOFFSETTO:-0700
TZNAME:PDT
DTSTART:20180311T100000
END:DAYLIGHT
BEGIN:STANDARD
TZOFFSETFROM:-0700
TZOFFSETTO:-0800
TZNAME:PST
DTSTART:20181104T090000
END:STANDARD
END:VTIMEZONE
BEGIN:VEVENT
DTSTART;TZID=America/Los_Angeles:20170317T110000
DTEND;TZID=America/Los_Angeles:20170317T170000
DTSTAMP:20260421T120205
CREATED:20170131T170051Z
LAST-MODIFIED:20170131T170051Z
UID:2544-1489748400-1489770000@btopen.org
SUMMARY:2017 Quaterfinals
DESCRIPTION:
URL:https://btopen.org/event/2017-quaterfinals/
LOCATION:Bakersfield Racquet Club\, 1660 Pine Street\, Bakersfield\, CA\, 93301\, United States
CATEGORIES:Doubles,Quarterfinals,Singles,USTA Pro Circuit
END:VEVENT
BEGIN:VEVENT
DTSTART;TZID=America/Los_Angeles:20170317T180000
DTEND;TZID=America/Los_Angeles:20170317T210000
DTSTAMP:20260421T120205
CREATED:20170131T170204Z
LAST-MODIFIED:20170131T170221Z
UID:2546-1489773600-1489784400@btopen.org
SUMMARY:2017 Quaterfinals Featured
DESCRIPTION:Featured Singles Match
URL:https://btopen.org/event/2017-quaterfinals-featured/
LOCATION:Bakersfield Racquet Club\, 1660 Pine Street\, Bakersfield\, CA\, 93301\, United States
CATEGORIES:Quarterfinals,Singles,USTA Pro Circuit
END:VEVENT
END:VCALENDAR