BEGIN:VCALENDAR
VERSION:2.0
PRODID:-//Bakersfield Tennis Open - ECPv6.15.20//NONSGML v1.0//EN
CALSCALE:GREGORIAN
METHOD:PUBLISH
X-WR-CALNAME:Bakersfield Tennis Open
X-ORIGINAL-URL:https://btopen.org
X-WR-CALDESC:Events for Bakersfield Tennis Open
REFRESH-INTERVAL;VALUE=DURATION:PT1H
X-Robots-Tag:noindex
X-PUBLISHED-TTL:PT1H
BEGIN:VTIMEZONE
TZID:America/Los_Angeles
BEGIN:DAYLIGHT
TZOFFSETFROM:-0800
TZOFFSETTO:-0700
TZNAME:PDT
DTSTART:20190310T100000
END:DAYLIGHT
BEGIN:STANDARD
TZOFFSETFROM:-0700
TZOFFSETTO:-0800
TZNAME:PST
DTSTART:20191103T090000
END:STANDARD
BEGIN:DAYLIGHT
TZOFFSETFROM:-0800
TZOFFSETTO:-0700
TZNAME:PDT
DTSTART:20200308T100000
END:DAYLIGHT
BEGIN:STANDARD
TZOFFSETFROM:-0700
TZOFFSETTO:-0800
TZNAME:PST
DTSTART:20201101T090000
END:STANDARD
BEGIN:DAYLIGHT
TZOFFSETFROM:-0800
TZOFFSETTO:-0700
TZNAME:PDT
DTSTART:20210314T100000
END:DAYLIGHT
BEGIN:STANDARD
TZOFFSETFROM:-0700
TZOFFSETTO:-0800
TZNAME:PST
DTSTART:20211107T090000
END:STANDARD
BEGIN:DAYLIGHT
TZOFFSETFROM:-0800
TZOFFSETTO:-0700
TZNAME:PDT
DTSTART:20220313T100000
END:DAYLIGHT
BEGIN:STANDARD
TZOFFSETFROM:-0700
TZOFFSETTO:-0800
TZNAME:PST
DTSTART:20221106T090000
END:STANDARD
BEGIN:DAYLIGHT
TZOFFSETFROM:-0800
TZOFFSETTO:-0700
TZNAME:PDT
DTSTART:20230312T100000
END:DAYLIGHT
BEGIN:STANDARD
TZOFFSETFROM:-0700
TZOFFSETTO:-0800
TZNAME:PST
DTSTART:20231105T090000
END:STANDARD
END:VTIMEZONE
BEGIN:VEVENT
DTSTART;TZID=America/Los_Angeles:20200315T100000
DTEND;TZID=America/Los_Angeles:20200315T140000
DTSTAMP:20260419T234108
CREATED:20200128T195646Z
LAST-MODIFIED:20200128T195646Z
UID:5236-1584266400-1584280800@btopen.org
SUMMARY:2020 Main Qualifier Sunday
DESCRIPTION:1st Round Singles Main Qualifier. Play begins at 10AM. Players from all over the world and locally play for multiple spots into the Main Tournament Draw. \nOrder of Play: (coming soon)
URL:https://btopen.org/event/2020-main-qualifier-sunday/
LOCATION:Bakersfield Racquet Club\, 1660 Pine Street\, Bakersfield\, CA\, 93301\, United States
CATEGORIES:Qualifier,Singles,USTA Pro Circuit
END:VEVENT
BEGIN:VEVENT
DTSTART;TZID=America/Los_Angeles:20200315T170000
DTEND;TZID=America/Los_Angeles:20200315T183000
DTSTAMP:20260419T234108
CREATED:20200128T195419Z
LAST-MODIFIED:20200219T222747Z
UID:5234-1584291600-1584297000@btopen.org
SUMMARY:2020 Live Ball With the Pros\, Dinner & Exhibition
DESCRIPTION:Local players have the to play Live Ball with Professional Tour Players from 5-6:30PM followed by a court side dinner and exhibition. \nClinic and Exhibition Flyer
URL:https://btopen.org/event/2020-live-ball/
LOCATION:Bakersfield Racquet Club\, 1660 Pine Street\, Bakersfield\, CA\, 93301\, United States
CATEGORIES:Social
END:VEVENT
BEGIN:VEVENT
DTSTART;TZID=America/Los_Angeles:20200316T100000
DTEND;TZID=America/Los_Angeles:20200316T140000
DTSTAMP:20260419T234108
CREATED:20200128T195818Z
LAST-MODIFIED:20200128T195840Z
UID:5238-1584352800-1584367200@btopen.org
SUMMARY:2020 Main Qualifier Monday
DESCRIPTION:Main Qualifier Continues. \nPlay begins at 10AM. \nOrder of Play: (coming soon)
URL:https://btopen.org/event/2020-main-qualifier-monday/
LOCATION:Bakersfield Racquet Club\, 1660 Pine Street\, Bakersfield\, CA\, 93301\, United States
CATEGORIES:Qualifier,Singles,USTA Pro Circuit
END:VEVENT
BEGIN:VEVENT
DTSTART;TZID=America/Los_Angeles:20200316T180000
DTEND;TZID=America/Los_Angeles:20200316T210000
DTSTAMP:20260419T234108
CREATED:20200128T200030Z
LAST-MODIFIED:20200203T201110Z
UID:5241-1584381600-1584392400@btopen.org
SUMMARY:2020 Player Meet & Greet Reception
DESCRIPTION:Meet the players that have just arrived to participate in the 2020 25k 7th annual Bakersfield Tennis Open. \nEnjoy along with our sponsors and volunteers that have helped to make this Tournament a great success. \n\n\n\nSocial hour begins at 6PM with dinner at 7PM. \n\n\n\nRSVP (661) 325-8652 \nFlyer
URL:https://btopen.org/event/2020-player-meet-greet-reception/
LOCATION:Bakersfield Racquet Club\, 1660 Pine Street\, Bakersfield\, CA\, 93301\, United States
CATEGORIES:Social
END:VEVENT
BEGIN:VEVENT
DTSTART;TZID=America/Los_Angeles:20200317T100000
DTEND;TZID=America/Los_Angeles:20200317T140000
DTSTAMP:20260419T234108
CREATED:20200128T200213Z
LAST-MODIFIED:20200128T204558Z
UID:5243-1584439200-1584453600@btopen.org
SUMMARY:2020 Main Qualifier Completion
DESCRIPTION:Completion of Singles Qualifier.   \nPlay begins at 10AM. Doubles follows.  \nOrder of Play: (coming soon)
URL:https://btopen.org/event/2020-main-qualifier-completion/
LOCATION:Bakersfield Racquet Club\, 1660 Pine Street\, Bakersfield\, CA\, 93301\, United States
CATEGORIES:Doubles,Qualifier,Singles,USTA Pro Circuit
END:VEVENT
BEGIN:VEVENT
DTSTART;TZID=America/Los_Angeles:20200317T180000
DTEND;TZID=America/Los_Angeles:20200317T210000
DTSTAMP:20260419T234108
CREATED:20200128T201122Z
LAST-MODIFIED:20200128T204607Z
UID:5245-1584468000-1584478800@btopen.org
SUMMARY:2020 Doubles Draw Day 1 Featured
DESCRIPTION:Order of Play: (coming soon)
URL:https://btopen.org/event/2020-doubles-draw-day-1-featured/
LOCATION:Bakersfield Racquet Club\, 1660 Pine Street\, Bakersfield\, CA\, 93301\, United States
CATEGORIES:Doubles,USTA Pro Circuit
END:VEVENT
BEGIN:VEVENT
DTSTART;TZID=America/Los_Angeles:20200318T110000
DTEND;TZID=America/Los_Angeles:20200318T170000
DTSTAMP:20260419T234108
CREATED:20200128T204752Z
LAST-MODIFIED:20200128T204752Z
UID:5248-1584529200-1584550800@btopen.org
SUMMARY:2020 Main Draw Day 1
DESCRIPTION:Start of Main Draw. Play begins at 11AM. \nEvening program begins at 6PM featuring Main Draw Singles. \nOrder of Play: (coming soon)
URL:https://btopen.org/event/2020-main-draw-day-1/
LOCATION:Bakersfield Racquet Club\, 1660 Pine Street\, Bakersfield\, CA\, 93301\, United States
CATEGORIES:Doubles,Singles,USTA Pro Circuit
END:VEVENT
BEGIN:VEVENT
DTSTART;TZID=America/Los_Angeles:20200318T180000
DTEND;TZID=America/Los_Angeles:20200318T210000
DTSTAMP:20260419T234108
CREATED:20200128T204915Z
LAST-MODIFIED:20200128T204929Z
UID:5250-1584554400-1584565200@btopen.org
SUMMARY:2020 Main Draw Day 1 Featured
DESCRIPTION:Singles Matches \nOrder of Play: (coming soon)
URL:https://btopen.org/event/2020-main-draw-day-1-featured/
LOCATION:Bakersfield Racquet Club\, 1660 Pine Street\, Bakersfield\, CA\, 93301\, United States
CATEGORIES:Singles,USTA Pro Circuit
END:VEVENT
BEGIN:VEVENT
DTSTART;TZID=America/Los_Angeles:20200319T110000
DTEND;TZID=America/Los_Angeles:20200319T170000
DTSTAMP:20260419T234108
CREATED:20200128T205054Z
LAST-MODIFIED:20200128T205054Z
UID:5253-1584615600-1584637200@btopen.org
SUMMARY:2020 Main Draw Day 2
DESCRIPTION:Main Draw play begins at 11AM. Evening program begins at 6PM featuring Main Draw Singles and Doubles Matches. \nOrder of Play: (coming soon)
URL:https://btopen.org/event/2020-main-draw-day-2/
LOCATION:Bakersfield Racquet Club\, 1660 Pine Street\, Bakersfield\, CA\, 93301\, United States
CATEGORIES:Doubles,Singles,USTA Pro Circuit
END:VEVENT
BEGIN:VEVENT
DTSTART;TZID=America/Los_Angeles:20200319T180000
DTEND;TZID=America/Los_Angeles:20200319T200000
DTSTAMP:20260419T234108
CREATED:20200128T205546Z
LAST-MODIFIED:20211117T000306Z
UID:5257-1584640800-1584648000@btopen.org
SUMMARY:2020 KCTA Awards & High School Team Night
DESCRIPTION:Free for all Team Players \nKCTA presentation follows first match \nRSVP by Friday March 8th\n(661) 325-8652 \nOpen to Public. \nhttps://btopen.org/KCTA-Awards.pdf
URL:https://btopen.org/event/2020-kcta-awards-high-school-team-night/
LOCATION:Bakersfield Racquet Club\, 1660 Pine Street\, Bakersfield\, CA\, 93301\, United States
CATEGORIES:KCTA,Social
END:VEVENT
BEGIN:VEVENT
DTSTART;TZID=America/Los_Angeles:20200319T180000
DTEND;TZID=America/Los_Angeles:20200319T210000
DTSTAMP:20260419T234108
CREATED:20200128T205206Z
LAST-MODIFIED:20200128T205206Z
UID:5255-1584640800-1584651600@btopen.org
SUMMARY:2020 Main Draw Day 2 Featured
DESCRIPTION:Main Draw Singles and Doubles Matches. \nOrder of Play: (coming soon)
URL:https://btopen.org/event/2020-main-draw-day-2-featured/
LOCATION:Bakersfield Racquet Club\, 1660 Pine Street\, Bakersfield\, CA\, 93301\, United States
CATEGORIES:Doubles,Singles,USTA Pro Circuit
END:VEVENT
BEGIN:VEVENT
DTSTART;TZID=America/Los_Angeles:20200320T110000
DTEND;TZID=America/Los_Angeles:20200320T170000
DTSTAMP:20260419T234108
CREATED:20200128T205746Z
LAST-MODIFIED:20200128T205957Z
UID:5259-1584702000-1584723600@btopen.org
SUMMARY:2020 Quarterfinals
DESCRIPTION:Singles Main Draw Quarterfinals \nOrder of Play: (coming soon)
URL:https://btopen.org/event/2020-quarterfinals/
LOCATION:Bakersfield Racquet Club\, 1660 Pine Street\, Bakersfield\, CA\, 93301\, United States
CATEGORIES:Quarterfinals,Singles,USTA Pro Circuit
END:VEVENT
BEGIN:VEVENT
DTSTART;TZID=America/Los_Angeles:20200320T180000
DTEND;TZID=America/Los_Angeles:20200320T210000
DTSTAMP:20260419T234108
CREATED:20200128T205934Z
LAST-MODIFIED:20200128T205934Z
UID:5262-1584727200-1584738000@btopen.org
SUMMARY:2020 Quarterfinals and Doubles Semifinal Featured
DESCRIPTION:Evening program begins at 6PM featuring a Main Draw Quarterfinal Singles Match and a Semifinal Doubles Match. \nOrder of Play: (coming soon)
URL:https://btopen.org/event/2020-quarterfinals-and-doubles-semifinal-featured/
LOCATION:Bakersfield Racquet Club\, 1660 Pine Street\, Bakersfield\, CA\, 93301\, United States
CATEGORIES:Doubles,Quarterfinals,Semifinals,Singles,USTA Pro Circuit
END:VEVENT
BEGIN:VEVENT
DTSTART;TZID=America/Los_Angeles:20200321T110000
DTEND;TZID=America/Los_Angeles:20200321T123000
DTSTAMP:20260419T234108
CREATED:20200128T210359Z
LAST-MODIFIED:20200128T211014Z
UID:5265-1584788400-1584793800@btopen.org
SUMMARY:2020 Net Generation Kids Day
DESCRIPTION:Free beginner clinic for kids with separate instruction for junior & high school kids.\nFree pizza & ice cream!! \nNet-Generation-Kids-Day
URL:https://btopen.org/event/2020-net-generation-kids-day/
LOCATION:Bakersfield Racquet Club\, 1660 Pine Street\, Bakersfield\, CA\, 93301\, United States
CATEGORIES:KCTA,Social
END:VEVENT
BEGIN:VEVENT
DTSTART;TZID=America/Los_Angeles:20200321T130000
DTEND;TZID=America/Los_Angeles:20200321T170000
DTSTAMP:20260419T234108
CREATED:20200128T210619Z
LAST-MODIFIED:20200128T210619Z
UID:5268-1584795600-1584810000@btopen.org
SUMMARY:2020 Semifinals
DESCRIPTION:Back to back Semifinal Matches. Play begins at 1PM. Evening program begins at 6PM featuring The Bakersfield Tennis Open Doubles Championship. \nOrder of Play: (coming soon)
URL:https://btopen.org/event/2020-semifinals/
LOCATION:Bakersfield Racquet Club\, 1660 Pine Street\, Bakersfield\, CA\, 93301\, United States
CATEGORIES:Semifinals,Singles,USTA Pro Circuit
END:VEVENT
BEGIN:VEVENT
DTSTART;TZID=America/Los_Angeles:20200321T180000
DTEND;TZID=America/Los_Angeles:20200321T200000
DTSTAMP:20260419T234108
CREATED:20200128T210733Z
LAST-MODIFIED:20200128T210733Z
UID:5270-1584813600-1584820800@btopen.org
SUMMARY:2020 Doubles Championship
DESCRIPTION:The Bakersfield Tennis Open Doubles Championship
URL:https://btopen.org/event/2020-doubles-championship/
LOCATION:Bakersfield Racquet Club\, 1660 Pine Street\, Bakersfield\, CA\, 93301\, United States
CATEGORIES:Championship,Doubles,USTA Pro Circuit
END:VEVENT
BEGIN:VEVENT
DTSTART;TZID=America/Los_Angeles:20200322T140000
DTEND;TZID=America/Los_Angeles:20200322T160000
DTSTAMP:20260419T234108
CREATED:20200128T210829Z
LAST-MODIFIED:20200128T210829Z
UID:5272-1584885600-1584892800@btopen.org
SUMMARY:2020 Championship
DESCRIPTION:The Bakersfield Tennis Open Singles Championship
URL:https://btopen.org/event/2020-championship/
LOCATION:Bakersfield Racquet Club\, 1660 Pine Street\, Bakersfield\, CA\, 93301\, United States
CATEGORIES:Championship,Singles,USTA Pro Circuit
END:VEVENT
BEGIN:VEVENT
DTSTART;TZID=America/Los_Angeles:20220313T160000
DTEND;TZID=America/Los_Angeles:20220313T180000
DTSTAMP:20260419T234108
CREATED:20211116T233103Z
LAST-MODIFIED:20220312T215539Z
UID:5342-1647187200-1647194400@btopen.org
SUMMARY:2022 Main Qualifier check-in
DESCRIPTION:Bakersfield Tennis Open Main Qualifier player check-in\, 4PM to 6PM. \nPractice courts open to tournament players. \n2022 Qualifier
URL:https://btopen.org/event/2022-main-qualifier-check-in/
LOCATION:Bakersfield Racquet Club\, 1660 Pine Street\, Bakersfield\, CA\, 93301\, United States
CATEGORIES:Qualifier,Singles,USTA Pro Circuit
END:VEVENT
BEGIN:VEVENT
DTSTART;TZID=America/Los_Angeles:20220313T170000
DTEND;TZID=America/Los_Angeles:20220313T183000
DTSTAMP:20260419T234108
CREATED:20211116T233505Z
LAST-MODIFIED:20220314T200949Z
UID:5345-1647190800-1647196200@btopen.org
SUMMARY:2022 Clinic\, Dinner & Exhibition
DESCRIPTION:[vc_row][vc_column][vc_column_text]Local players can register for a tennis clinic with Bakersfield Tennis Open Players from 5-6:30PM. Followed by a court side dinner and doubles exhibition featuring Bakersfield’s own Mike & Eli Noel against tournament professionals.  See flyer for cost or call proshop @ 661-325-8652[/vc_column_text][/vc_column][/vc_row][vc_row][vc_column][vc_single_image image=”5443″ img_size=”” alignment=”center” onclick=”link_image”][/vc_column][/vc_row]
URL:https://btopen.org/event/2022-clinic-dinner-exhibition/
LOCATION:Bakersfield Racquet Club\, 1660 Pine Street\, Bakersfield\, CA\, 93301\, United States
CATEGORIES:Social
END:VEVENT
BEGIN:VEVENT
DTSTART;TZID=America/Los_Angeles:20220314T100000
DTEND;TZID=America/Los_Angeles:20220314T150000
DTSTAMP:20260419T234108
CREATED:20211116T233833Z
LAST-MODIFIED:20220314T035138Z
UID:5347-1647252000-1647270000@btopen.org
SUMMARY:2022 Main Qualifier Monday
DESCRIPTION:Singles Qualifier 1st round\, play begins at 10AM.  \n32 players from all over the world and locally compete for 8 spots into the Main Tournament Draw. \nOrder of Play: \n \n2022 Qualifier
URL:https://btopen.org/event/2022-main-qualifier-monday/
LOCATION:Bakersfield Racquet Club\, 1660 Pine Street\, Bakersfield\, CA\, 93301\, United States
CATEGORIES:Qualifier,Singles,USTA Pro Circuit
END:VEVENT
BEGIN:VEVENT
DTSTART;TZID=America/Los_Angeles:20220314T180000
DTEND;TZID=America/Los_Angeles:20220314T210000
DTSTAMP:20260419T234108
CREATED:20211116T234157Z
LAST-MODIFIED:20220315T175040Z
UID:5350-1647280800-1647291600@btopen.org
SUMMARY:2022 Kick-Off & Sponsor Appreciation Party
DESCRIPTION:[vc_row][vc_column width=”1/2″][vc_column_text]Social hour 6PM with dinner at 7PM. \nCost $20.00.  No cost for sponsors and volunteers. \nBTOpen kickoff 2022 [/vc_column_text][vc_single_image image=”5459″ img_size=”medium” onclick=”link_image”][/vc_column][/vc_row]
URL:https://btopen.org/event/2022-kick-off-sponsor-appreciation-party/
LOCATION:Bakersfield Racquet Club\, 1660 Pine Street\, Bakersfield\, CA\, 93301\, United States
CATEGORIES:Social
END:VEVENT
BEGIN:VEVENT
DTSTART;TZID=America/Los_Angeles:20220315T100000
DTEND;TZID=America/Los_Angeles:20220315T123000
DTSTAMP:20260419T234108
CREATED:20220315T042409Z
LAST-MODIFIED:20220315T042907Z
UID:5567-1647338400-1647347400@btopen.org
SUMMARY:2022 Qualifier Day 2
DESCRIPTION:Singles Qualifier final round\, play begins at 10AM followed by the first round of the Main Draw. \n32 players from all over the world and locally compete for 8 spots into the Main Tournament Draw. \nQualifier Draw \nOrder of Play:
URL:https://btopen.org/event/2022-qualifier-day-2/
LOCATION:Bakersfield Racquet Club\, 1660 Pine Street\, Bakersfield\, CA\, 93301\, United States
CATEGORIES:Qualifier,Singles,USTA Pro Circuit
END:VEVENT
BEGIN:VEVENT
DTSTART;TZID=America/Los_Angeles:20220315T100000
DTEND;TZID=America/Los_Angeles:20220315T170000
DTSTAMP:20260419T234108
CREATED:20211116T234457Z
LAST-MODIFIED:20230201T231452Z
UID:5352-1647338400-1647363600@btopen.org
SUMMARY:2022 Main Qualifier Completion
DESCRIPTION:Completion of Singles Qualifier\, play begins at 10AM.  \nFollowed by the start of the Singles Main Draw. \nOrder of Play: TBD
URL:https://btopen.org/event/2022-main-qualifier-completion/
LOCATION:Bakersfield Racquet Club\, 1660 Pine Street\, Bakersfield\, CA\, 93301\, United States
CATEGORIES:Qualifier,Singles,USTA Pro Circuit
END:VEVENT
BEGIN:VEVENT
DTSTART;TZID=America/Los_Angeles:20220315T123000
DTEND;TZID=America/Los_Angeles:20220315T200000
DTSTAMP:20260419T234108
CREATED:20211116T234817Z
LAST-MODIFIED:20220315T005422Z
UID:5355-1647347400-1647374400@btopen.org
SUMMARY:2022 Main Draw Day 1
DESCRIPTION:Singles Main Draw begins upon completion of the Qualifier. Evening program begins at 6PM featuring a Main Draw Singles and an incredible first round Doubles Match. \nSingles Main Draw \nDoubles Main Draw \nOrder of Play:
URL:https://btopen.org/event/2022-main-draw-day-1/
LOCATION:Bakersfield Racquet Club\, 1660 Pine Street\, Bakersfield\, CA\, 93301\, United States
CATEGORIES:Singles,USTA Pro Circuit
END:VEVENT
BEGIN:VEVENT
DTSTART;TZID=America/Los_Angeles:20220316T100000
DTEND;TZID=America/Los_Angeles:20220316T173000
DTSTAMP:20260419T234108
CREATED:20211116T235233Z
LAST-MODIFIED:20220316T042655Z
UID:5358-1647424800-1647451800@btopen.org
SUMMARY:2022 Main Draw Day 2
DESCRIPTION:Singles Main Draw continues\, play begins at 10AM.   \nFollowed by the start of the Doubles Draw. \n2022 Singles Main Draw \n2022 Doubles Main Draw \nOrder of Play:
URL:https://btopen.org/event/2022-main-draw-day-2/
LOCATION:Bakersfield Racquet Club\, 1660 Pine Street\, Bakersfield\, CA\, 93301\, United States
CATEGORIES:Singles,USTA Pro Circuit
END:VEVENT
BEGIN:VEVENT
DTSTART;TZID=America/Los_Angeles:20220316T180000
DTEND;TZID=America/Los_Angeles:20220316T210000
DTSTAMP:20260419T234108
CREATED:20211116T235509Z
LAST-MODIFIED:20220317T033642Z
UID:5360-1647453600-1647464400@btopen.org
SUMMARY:2022 Doubles Night
DESCRIPTION:Kern County Doubles Champions Mike & Eli Noel’s first round doubles match begins at 6PM. \nAudience members play tennis games on court for prizes between matches. \n2022 Singles Main Draw \n2022 Doubles Main Draw \nOrder of Play (revised):
URL:https://btopen.org/event/2022-doubles-draw-day-1-featured/
LOCATION:Bakersfield Racquet Club\, 1660 Pine Street\, Bakersfield\, CA\, 93301\, United States
CATEGORIES:Doubles,Social,USTA Pro Circuit
END:VEVENT
BEGIN:VEVENT
DTSTART;TZID=America/Los_Angeles:20220317T110000
DTEND;TZID=America/Los_Angeles:20220317T170000
DTSTAMP:20260419T234108
CREATED:20211116T235726Z
LAST-MODIFIED:20220317T050447Z
UID:5363-1647514800-1647536400@btopen.org
SUMMARY:2022 Main Draw Day 3
DESCRIPTION:Singles Main Draw continues\, play begins at 11AM.  \nEvening program begins at 6PM featuring Main Draw Singles and Doubles Match. \nSingles Main Draw \nDoubles Main Draw \nOrder of Play:
URL:https://btopen.org/event/2022-main-draw-day-3/
LOCATION:Bakersfield Racquet Club\, 1660 Pine Street\, Bakersfield\, CA\, 93301\, United States
CATEGORIES:Singles,USTA Pro Circuit
END:VEVENT
BEGIN:VEVENT
DTSTART;TZID=America/Los_Angeles:20220317T180000
DTEND;TZID=America/Los_Angeles:20220317T210000
DTSTAMP:20260419T234108
CREATED:20211116T235951Z
LAST-MODIFIED:20211116T235951Z
UID:5367-1647540000-1647550800@btopen.org
SUMMARY:2022 Thursday Singles and Doubles Featured
DESCRIPTION:Featured matches from both draws. \nOrder of Play: TBD
URL:https://btopen.org/event/2022-thursday-singles-and-doubles-featured/
LOCATION:Bakersfield Racquet Club\, 1660 Pine Street\, Bakersfield\, CA\, 93301\, United States
CATEGORIES:Doubles,Singles,USTA Pro Circuit
END:VEVENT
BEGIN:VEVENT
DTSTART;TZID=America/Los_Angeles:20220317T180000
DTEND;TZID=America/Los_Angeles:20220317T210000
DTSTAMP:20260419T234108
CREATED:20211117T000253Z
LAST-MODIFIED:20211117T000311Z
UID:5369-1647540000-1647550800@btopen.org
SUMMARY:2022 KCTA Awards & High School Team Night
DESCRIPTION:Festivities begin at 6PM\, Awards between matches. \nRSVP by Friday March 11th\n(661) 325-8652 \nOpen to Public. \nFeaturing Main Draw Singles and Doubles Matches.
URL:https://btopen.org/event/2022-kcta-awards-high-school-team-night/
LOCATION:Bakersfield Racquet Club\, 1660 Pine Street\, Bakersfield\, CA\, 93301\, United States
CATEGORIES:Doubles,KCTA,Singles,Social,USTA Pro Circuit
END:VEVENT
BEGIN:VEVENT
DTSTART;TZID=America/Los_Angeles:20220318T110000
DTEND;TZID=America/Los_Angeles:20220318T170000
DTSTAMP:20260419T234108
CREATED:20211117T000448Z
LAST-MODIFIED:20220318T044053Z
UID:5372-1647601200-1647622800@btopen.org
SUMMARY:2022 Quarterfinals
DESCRIPTION:Singles Quarterfinal Matches begin at 11AM \nOrder of Play:
URL:https://btopen.org/event/2022-quarterfinals/
LOCATION:Bakersfield Racquet Club\, 1660 Pine Street\, Bakersfield\, CA\, 93301\, United States
CATEGORIES:Quarterfinals,Singles,USTA Pro Circuit
END:VEVENT
END:VCALENDAR