BEGIN:VCALENDAR
VERSION:2.0
PRODID:-//Bakersfield Tennis Open - ECPv6.15.20//NONSGML v1.0//EN
CALSCALE:GREGORIAN
METHOD:PUBLISH
X-WR-CALNAME:Bakersfield Tennis Open
X-ORIGINAL-URL:https://btopen.org
X-WR-CALDESC:Events for Bakersfield Tennis Open
REFRESH-INTERVAL;VALUE=DURATION:PT1H
X-Robots-Tag:noindex
X-PUBLISHED-TTL:PT1H
BEGIN:VTIMEZONE
TZID:America/Los_Angeles
BEGIN:DAYLIGHT
TZOFFSETFROM:-0800
TZOFFSETTO:-0700
TZNAME:PDT
DTSTART:20250309T100000
END:DAYLIGHT
BEGIN:STANDARD
TZOFFSETFROM:-0700
TZOFFSETTO:-0800
TZNAME:PST
DTSTART:20251102T090000
END:STANDARD
BEGIN:DAYLIGHT
TZOFFSETFROM:-0800
TZOFFSETTO:-0700
TZNAME:PDT
DTSTART:20260308T100000
END:DAYLIGHT
BEGIN:STANDARD
TZOFFSETFROM:-0700
TZOFFSETTO:-0800
TZNAME:PST
DTSTART:20261101T090000
END:STANDARD
BEGIN:DAYLIGHT
TZOFFSETFROM:-0800
TZOFFSETTO:-0700
TZNAME:PDT
DTSTART:20270314T100000
END:DAYLIGHT
BEGIN:STANDARD
TZOFFSETFROM:-0700
TZOFFSETTO:-0800
TZNAME:PST
DTSTART:20271107T090000
END:STANDARD
END:VTIMEZONE
BEGIN:VEVENT
DTSTART;TZID=America/Los_Angeles:20260322T130000
DTEND;TZID=America/Los_Angeles:20260322T153000
DTSTAMP:20260419T220016
CREATED:20260212T214556Z
LAST-MODIFIED:20260320T190513Z
UID:8195-1774184400-1774193400@btopen.org
SUMMARY:2026 Championship
DESCRIPTION:[vc_row][vc_column][vc_column_text css=””]The 2026 Bakersfield Tennis Open Championship Singles Championship starts at 1:00 PM \nDeli-cious Kitchen open until 2:00 PM\n[/vc_column_text][/vc_column][/vc_row][vc_row][vc_column][vc_message css=””]Please be aware roads in Zone 2 North of the Bakersfield Racquet Club will be closed at the start of the match due to the annual running of the Bakersfield Marathon and plan to approach the club accordingly from Truxtun Avenue. \n[/vc_message][/vc_column][/vc_row]
URL:https://btopen.org/event/2026-championship/
LOCATION:Bakersfield Racquet Club\, 1660 Pine Street\, Bakersfield\, CA\, 93301\, United States
CATEGORIES:Championship,Singles,USTA Pro Circuit
END:VEVENT
END:VCALENDAR